BEGIN:VCALENDAR
VERSION:2.0
PRODID:-//wp-events-plugin.com//7.2.3.1//EN
TZID:Europe/Berlin
X-WR-TIMEZONE:Europe/Berlin
BEGIN:VEVENT
UID:5191@kids-ulm.de
DTSTART;TZID=Europe/Berlin:20260421T100000
DTEND;TZID=Europe/Berlin:20260421T113000
DTSTAMP:20260127T092512Z
URL:https://www.kids-ulm.de/familienkalender/babybrei-trifft-fingerfood/
SUMMARY:Babybrei trifft Fingerfood
DESCRIPTION:Die Phase\, in der bei Ihrem Kind Milch- durch Breimahlzeiten e
 rsetzt werden\, steht bevor. Wie Sie den Übergang von der Milch zur Beiko
 st Schritt für Schritt gestalten können\, ist Inhalt dieser Veranstaltun
 g. Sie erhalten nicht nur Informationen zur klassischen Brei-Beikost\, son
 dern auch Hinweise zum sogenannten Baby-led weaning sowie hilfreiche Anreg
 ungen für die Praxis.\nEin Angebot des AELF Krumbach/Mindelheim.\nReferen
 tin: Edith Egle\, Ernährungstechnikerin\nVeranstalter: Familienstützpunk
 t Weißenhorn\, Roggenburg\, Pfaffenhofen\, Holzheim\n\nAnmeldung: familie
 nstuetzpunkt-weissenhorn@asb-nu.de oder 07309 8791752
ATTACH;FMTTYPE=image/jpeg:https://www.kids-ulm.de/wp-content/uploads/2025/
 10/carrie-allen-www-carrieallen-com-ioGJcLOoTPU-unsplash.jpg
CATEGORIES:Sonstiges
LOCATION:Altes Schulhaus/Haus der Vereine\, Hauptstraße 26\, Pfaffenhofen\
 , Deutschland
X-APPLE-STRUCTURED-LOCATION;VALUE=URI;X-ADDRESS=Hauptstraße 26\, Pfaffenho
 fen\, Deutschland;X-APPLE-RADIUS=100;X-TITLE=Altes Schulhaus/Haus der Vere
 ine:geo:0,0
END:VEVENT
BEGIN:VTIMEZONE
TZID:Europe/Berlin
X-LIC-LOCATION:Europe/Berlin
BEGIN:DAYLIGHT
DTSTART:20260329T030000
TZOFFSETFROM:+0100
TZOFFSETTO:+0200
TZNAME:CEST
END:DAYLIGHT
END:VTIMEZONE
END:VCALENDAR