BEGIN:VCALENDAR
VERSION:2.0
PRODID:-//wp-events-plugin.com//7.2.3.1//EN
TZID:Europe/Berlin
X-WR-TIMEZONE:Europe/Berlin
BEGIN:VEVENT
UID:5631@kids-ulm.de
DTSTART;TZID=Europe/Berlin:20260426T100000
DTEND;TZID=Europe/Berlin:20260426T180000
DTSTAMP:20260223T095141Z
URL:https://www.kids-ulm.de/familienkalender/familiensonntag-tiere-auf-dem
 -bauernhof/
SUMMARY:FamilienSonntag „Tiere auf dem Bauernhof"
DESCRIPTION:Programmangebot\n\n 	Vorführungen zur historischen Arbeit mit 
 Tieren\, z.B. Holz Rücken und Laden mit dem Pferd\, die Schafschur oder d
 ie Arbeit des Hufschmieds\n 	Historisches Schauhandwerk und traditionelle 
 Handarbeitstechniken entführen in die Vergangenheit\n 	kreative Mitmachan
 gebote für jedes Kind. Ebenso fahren die Mini-Dampfbahnen des Schwäbisch
 en Eisenbahnvereins e.V.\n
ATTACH;FMTTYPE=image/jpeg:https://www.kids-ulm.de/wp-content/uploads/2026/
 02/kylee-alons-suQ-D-9dmVU-unsplash.jpg
CATEGORIES:Natur &amp; Bewegung
LOCATION:Oberschwäbisches Museumsdorf Kürnbach\, Griesweg 30\, Bad Schuss
 enried\, 88427\, Deutschland
X-APPLE-STRUCTURED-LOCATION;VALUE=URI;X-ADDRESS=Griesweg 30\, Bad Schussenr
 ied\, 88427\, Deutschland;X-APPLE-RADIUS=100;X-TITLE=Oberschwäbisches Mus
 eumsdorf Kürnbach:geo:0,0
END:VEVENT
BEGIN:VTIMEZONE
TZID:Europe/Berlin
X-LIC-LOCATION:Europe/Berlin
BEGIN:DAYLIGHT
DTSTART:20260329T030000
TZOFFSETFROM:+0100
TZOFFSETTO:+0200
TZNAME:CEST
END:DAYLIGHT
END:VTIMEZONE
END:VCALENDAR