BEGIN:VCALENDAR
VERSION:2.0
PRODID:-//wp-events-plugin.com//7.2.3.1//EN
TZID:Europe/Berlin
X-WR-TIMEZONE:Europe/Berlin
BEGIN:VEVENT
UID:2572@kids-ulm.de
DTSTART;TZID=Europe/Berlin:20251025T133000
DTEND;TZID=Europe/Berlin:20251025T160000
DTSTAMP:20250731T135015Z
URL:https://www.kids-ulm.de/familienkalender/kinder-bastel-workshop-ueber-
 den-wolken-den-sternen-so-nah/
SUMMARY:Kinder-Bastel-Workshop "Über den Wolken den Sternen so nah"
DESCRIPTION:Für bastelsichere Kinder ab 7 Jahren. Inspiriert durch August 
 Piccards Ballonhöhenrekord und seiner Aussicht auf den Sternenhimmel\, wi
 rd im museumseigenen Bastelraum ein Kaleidoskop gebastelt.\n\nVeranstalter
 : Ballonmuseum Gersthofen\,\n\nAnm: ballonmuseum@gersthofen.de\, telefonis
 ch unter 0821/2491-506
ATTACH;FMTTYPE=image/jpeg:https://www.kids-ulm.de/wp-content/uploads/2025/
 07/workshop-4047205_1280.jpg
CATEGORIES:Kunst &amp; Kultur
LOCATION:Ballonmuseum Gersthofen\, Bahnhofstraße 12\, Gersthofen\, 86368\,
  Deutschland
X-APPLE-STRUCTURED-LOCATION;VALUE=URI;X-ADDRESS=Bahnhofstraße 12\, Gerstho
 fen\, 86368\, Deutschland;X-APPLE-RADIUS=100;X-TITLE=Ballonmuseum Gersthof
 en:geo:0,0
END:VEVENT
BEGIN:VTIMEZONE
TZID:Europe/Berlin
X-LIC-LOCATION:Europe/Berlin
BEGIN:DAYLIGHT
DTSTART:20250330T030000
TZOFFSETFROM:+0100
TZOFFSETTO:+0200
TZNAME:CEST
END:DAYLIGHT
END:VTIMEZONE
END:VCALENDAR