BEGIN:VCALENDAR
VERSION:2.0
PRODID:-//wp-events-plugin.com//7.2.3.1//EN
TZID:Europe/Berlin
X-WR-TIMEZONE:Europe/Berlin
BEGIN:VEVENT
UID:5230@kids-ulm.de
DTSTART;TZID=Europe/Berlin:20260318T100000
DTEND;TZID=Europe/Berlin:20260318T113000
DTSTAMP:20260128T100338Z
URL:https://www.kids-ulm.de/familienkalender/kindertagespflege-alternative
 -betreuungsform/
SUMMARY:KINDERTAGESPFLEGE - Alternative Betreuungsform
DESCRIPTION:während des Mütter-Baby-Cafés\, ohne Anmeldung | kostenlos.\
 nEINE INFORMATIONSVERANSTALTUNG DES TAGESMÜTTERVEREINS ULM E.V.\nTagesmut
 ter\, Tagesvater – ist das die richtige Betreuungsform für mein Kind? W
 as ist „Kindertagespflege“ und was muss ich tun\, wenn ich einen Betre
 uungsplatz suche? Der Tagesmütterverein Ulm e.V. stellt die Betreuungsfor
 m „Kindertagespflege“ vor und steht für Fragen zur Verfügung.\nRefer
 entin: Stefanie Ziegler | Manuela Kogel\, Tagesmütterverein Ulm e.V. | Ul
 m\nwww.tmv-ulm.de\nVeranstalter: Sie'ste - Mädchen- und Frauenladen
ATTACH;FMTTYPE=image/jpeg:https://www.kids-ulm.de/wp-content/uploads/2025/
 11/danijel-durkovic-QOSb_iH9Uas-unsplash-2.jpg
CATEGORIES:Vortrag &amp; Information
LOCATION:Sie‘ste - Mädchen- u. Frauenladen Ulm\, Moltkestraße 72\, Ulm\
 , 89077\, Deutschland
X-APPLE-STRUCTURED-LOCATION;VALUE=URI;X-ADDRESS=Moltkestraße 72\, Ulm\, 89
 077\, Deutschland;X-APPLE-RADIUS=100;X-TITLE=Sie‘ste - Mädchen- u. Frau
 enladen Ulm:geo:0,0
END:VEVENT
BEGIN:VTIMEZONE
TZID:Europe/Berlin
X-LIC-LOCATION:Europe/Berlin
BEGIN:STANDARD
DTSTART:20251026T020000
TZOFFSETFROM:+0200
TZOFFSETTO:+0100
TZNAME:CET
END:STANDARD
END:VTIMEZONE
END:VCALENDAR