BEGIN:VCALENDAR
VERSION:2.0
PRODID:-//wp-events-plugin.com//7.2.3.1//EN
TZID:Europe/Berlin
X-WR-TIMEZONE:Europe/Berlin
BEGIN:VEVENT
UID:3499@kids-ulm.de
DTSTART;TZID=Europe/Berlin:20251130T160000
DTEND;TZID=Europe/Berlin:20251130T200000
DTSTAMP:20251007T194105Z
URL:https://www.kids-ulm.de/familienkalender/kinderweihnacht-langenau-goet
 tingen/
SUMMARY:Kinderweihnacht Langenau-Göttingen
DESCRIPTION:Lebende Krippe\, Märchenjurte\, verschiedene regionale Kleinan
 bietern und Beiträge des Kinderchors und der\nKinderturnabteilung.\n\nAu
 ßerdem wird der Nikolaus einen Besuch abstatten. Fürs leibliche Wohl ist
  gesorgt.
ATTACH;FMTTYPE=image/jpeg:https://www.kids-ulm.de/wp-content/uploads/2025/
 10/ilona-frey-EC92VYoYwC4-unsplash.jpg
CATEGORIES:Feste &amp; Märkte
LOCATION:Vereinsheim Langenau\, Hallenweg 32\, Langenau-Göttingen\, Deutsc
 hland
X-APPLE-STRUCTURED-LOCATION;VALUE=URI;X-ADDRESS=Hallenweg 32\, Langenau-Gö
 ttingen\, Deutschland;X-APPLE-RADIUS=100;X-TITLE=Vereinsheim Langenau:geo:
 0,0
END:VEVENT
BEGIN:VTIMEZONE
TZID:Europe/Berlin
X-LIC-LOCATION:Europe/Berlin
BEGIN:STANDARD
DTSTART:20251026T020000
TZOFFSETFROM:+0200
TZOFFSETTO:+0100
TZNAME:CET
END:STANDARD
END:VTIMEZONE
END:VCALENDAR