BEGIN:VCALENDAR
VERSION:2.0
PRODID:-//wp-events-plugin.com//7.2.3.1//EN
TZID:Europe/Berlin
X-WR-TIMEZONE:Europe/Berlin
BEGIN:VEVENT
UID:6707@kids-ulm.de
DTSTART;TZID=Europe/Berlin:20260701T100000
DTEND;TZID=Europe/Berlin:20260701T100000
DTSTAMP:20260423T094214Z
URL:https://www.kids-ulm.de/familienkalender/kleine-leseratz-7/
SUMMARY:Kleine Leseratz
DESCRIPTION:Sprach- und Bilderbuchspaß für die kleinsten Büchereibesuche
 r*innen ab 1 Jahr.\n\nVeranstalter: StadtBücherei Langenau im Pfleghof\n\
 nBei der Veranstaltung ist vorab eine Anmeldung per Telefon oder Email not
 wendig\nE-Mail: stadtbuecherei@langenau.de\nTelefon: 07345 9624-31
ATTACH;FMTTYPE=image/jpeg:https://www.kids-ulm.de/wp-content/uploads/2025/
 11/Ratz_klein-scaled.jpg
CATEGORIES:Vortrag &amp; Information
LOCATION:Stadtbücherei im Pfleghof\, Kirchgasse 9 \, Langenau\, 89129\, De
 utschland
X-APPLE-STRUCTURED-LOCATION;VALUE=URI;X-ADDRESS=Kirchgasse 9 \, Langenau\, 
 89129\, Deutschland;X-APPLE-RADIUS=100;X-TITLE=Stadtbücherei im Pfleghof:
 geo:0,0
END:VEVENT
BEGIN:VTIMEZONE
TZID:Europe/Berlin
X-LIC-LOCATION:Europe/Berlin
BEGIN:DAYLIGHT
DTSTART:20260329T030000
TZOFFSETFROM:+0100
TZOFFSETTO:+0200
TZNAME:CEST
END:DAYLIGHT
END:VTIMEZONE
END:VCALENDAR