BEGIN:VCALENDAR
VERSION:2.0
PRODID:-//wp-events-plugin.com//7.2.3.1//EN
TZID:Europe/Berlin
X-WR-TIMEZONE:Europe/Berlin
BEGIN:VEVENT
UID:2591@kids-ulm.de
DTSTART;TZID=Europe/Berlin:20251006T163000
DTEND;TZID=Europe/Berlin:20251006T180000
DTSTAMP:20250801T072507Z
URL:https://www.kids-ulm.de/familienkalender/kurs-wind-ii-anfaengerinnen-u
 nd-fortgeschrittene/
SUMMARY:KURS: Wind II- Anfänger*innen und Fortgeschrittene
DESCRIPTION:4 bis 5 Jahre.\n\n15x\, montags ab 06.10.2025.\n\nKontakt: Tel.
  0731.1530-32\, kontiki@kontiki.vh-ulm.de\n\nAnmeldung: hier klicken
ATTACH;FMTTYPE=image/jpeg:https://www.kids-ulm.de/wp-content/uploads/2025/
 07/workshop-4047205_1280.jpg
CATEGORIES:Kunst &amp; Kultur
LOCATION:kontiki - Kunst- und Kulturwerkstatt\, Magirus-Deutz-Straße 14\, 
 Ulm\, Baden-Württemberg\, 89077\, Deutschland
X-APPLE-STRUCTURED-LOCATION;VALUE=URI;X-ADDRESS=Magirus-Deutz-Straße 14\, 
 Ulm\, Baden-Württemberg\, 89077\, Deutschland;X-APPLE-RADIUS=100;X-TITLE=
 kontiki - Kunst- und Kulturwerkstatt:geo:0,0
END:VEVENT
BEGIN:VTIMEZONE
TZID:Europe/Berlin
X-LIC-LOCATION:Europe/Berlin
BEGIN:DAYLIGHT
DTSTART:20250330T030000
TZOFFSETFROM:+0100
TZOFFSETTO:+0200
TZNAME:CEST
END:DAYLIGHT
END:VTIMEZONE
END:VCALENDAR