BEGIN:VCALENDAR
VERSION:2.0
PRODID:-//wp-events-plugin.com//7.2.3.1//EN
TZID:Europe/Berlin
X-WR-TIMEZONE:Europe/Berlin
BEGIN:VEVENT
UID:5729@kids-ulm.de
DTSTART;TZID=Europe/Berlin:20260424T150000
DTEND;TZID=Europe/Berlin:20260424T160000
DTSTAMP:20260304T050411Z
URL:https://www.kids-ulm.de/familienkalender/mario-kart-turnier/
SUMMARY:Mario Kart Turnier
DESCRIPTION:Für Kinder von 10 bis 13 Jahren. Gespielt wird auf der Nintend
 o Switch Konsole der StadtBücherei.\n\nVeranstalter: StadtBücherei Lange
 nau im Pfleghof\n\nAnm: Tel. 07345 9624-31 oder unter https://lesecheck.in
 / oder direkt in der Bücherei
ATTACH;FMTTYPE=image/jpeg:https://www.kids-ulm.de/wp-content/uploads/2026/
 03/Screenshot-2026-03-04-at-06.03.08.png
CATEGORIES:Sonstiges
LOCATION:Stadtbücherei im Pfleghof\, Kirchgasse 9 \, Langenau\, 89129\, De
 utschland
X-APPLE-STRUCTURED-LOCATION;VALUE=URI;X-ADDRESS=Kirchgasse 9 \, Langenau\, 
 89129\, Deutschland;X-APPLE-RADIUS=100;X-TITLE=Stadtbücherei im Pfleghof:
 geo:0,0
END:VEVENT
BEGIN:VTIMEZONE
TZID:Europe/Berlin
X-LIC-LOCATION:Europe/Berlin
BEGIN:DAYLIGHT
DTSTART:20260329T030000
TZOFFSETFROM:+0100
TZOFFSETTO:+0200
TZNAME:CEST
END:DAYLIGHT
END:VTIMEZONE
END:VCALENDAR