BEGIN:VCALENDAR
VERSION:2.0
PRODID:-//wp-events-plugin.com//7.2.3.1//EN
TZID:Europe/Berlin
X-WR-TIMEZONE:Europe/Berlin
BEGIN:VEVENT
UID:2420@kids-ulm.de
DTSTART;TZID=Europe/Berlin:20251026T130000
DTEND;TZID=Europe/Berlin:20251026T130000
DTSTAMP:20250728T112322Z
URL:https://www.kids-ulm.de/familienkalender/oeffentliche-fuehrung-2/
SUMMARY:Öffentliche Führung
DESCRIPTION:Sonderausstellung „Zeitenwandel. Als Europa wurde …“\n\nU
 m 13 und 14 Uhr.\n\nwww.federseemuseum.de
ATTACH;FMTTYPE=image/jpeg:https://www.kids-ulm.de/wp-content/uploads/2025/
 07/boy-6858363_1280.jpg
CATEGORIES:Kunst &amp; Kultur
LOCATION:Federseemuseum\, August-Gröber-Platz 2 \, Bad Buchau\, 88422\, De
 utschland
X-APPLE-STRUCTURED-LOCATION;VALUE=URI;X-ADDRESS=August-Gröber-Platz 2 \, B
 ad Buchau\, 88422\, Deutschland;X-APPLE-RADIUS=100;X-TITLE=Federseemuseum:
 geo:0,0
END:VEVENT
BEGIN:VTIMEZONE
TZID:Europe/Berlin
X-LIC-LOCATION:Europe/Berlin
BEGIN:STANDARD
DTSTART:20251026T020000
TZOFFSETFROM:+0200
TZOFFSETTO:+0100
TZNAME:CET
END:STANDARD
END:VTIMEZONE
END:VCALENDAR