BEGIN:VCALENDAR
VERSION:2.0
PRODID:-//wp-events-plugin.com//7.2.3.1//EN
TZID:Europe/Berlin
X-WR-TIMEZONE:Europe/Berlin
BEGIN:VEVENT
UID:64@kids-ulm.de
DTSTART;TZID=Europe/Berlin:20250720T130000
DTEND;TZID=Europe/Berlin:20250720T170000
DTSTAMP:20250717T213725Z
URL:https://www.kids-ulm.de/familienkalender/traktoren-und-schmiede-tag/
SUMMARY:Traktoren- und Schmiede-Tag
DESCRIPTION:Im Museum Hammerschmiede und Stockerhof Naichen
CATEGORIES:Kunst &amp; Kultur
LOCATION:Museum Hammerschmiede und Stockerhof Naichen\, Zur Hammerschmiede 
 3\, Neuburg an der Kammel\, 86476\, Deutschland
X-APPLE-STRUCTURED-LOCATION;VALUE=URI;X-ADDRESS=Zur Hammerschmiede 3\, Neub
 urg an der Kammel\, 86476\, Deutschland;X-APPLE-RADIUS=100;X-TITLE=Museum 
 Hammerschmiede und Stockerhof Naichen:geo:0,0
END:VEVENT
BEGIN:VTIMEZONE
TZID:Europe/Berlin
X-LIC-LOCATION:Europe/Berlin
BEGIN:DAYLIGHT
DTSTART:20250330T030000
TZOFFSETFROM:+0100
TZOFFSETTO:+0200
TZNAME:CEST
END:DAYLIGHT
END:VTIMEZONE
END:VCALENDAR