BEGIN:VCALENDAR
VERSION:2.0
PRODID:-//wp-events-plugin.com//7.2.3.1//EN
TZID:Europe/Berlin
X-WR-TIMEZONE:Europe/Berlin
BEGIN:VEVENT
UID:5451@kids-ulm.de
DTSTART;TZID=Europe/Berlin:20260508T170000
DTEND;TZID=Europe/Berlin:20260508T183000
DTSTAMP:20260219T112012Z
URL:https://www.kids-ulm.de/familienkalender/waldfuehrung/
SUMMARY:Waldführung
DESCRIPTION:\n\n\n\nFührung in den Wäldern des Botanischen Gartens (ca. 1
 \,5 Std.)\n\nReferent: Forstrat i.P.a.D. Wolfgang Bachofer\nVorsitzender F
 reunde des Botanischen Gartens e.V.\nTreffpunkt: Eingang Gewächshäuser\n
 \nTeilnahme kostenlos. Bitte auf wetterfeste Kleidung und gutes Schuhwerk
  achten.\n\n\n&nbsp\;\n\n\n\n&nbsp\;\n\n&nbsp\;\n\n&nbsp\;
ATTACH;FMTTYPE=image/jpeg:https://www.kids-ulm.de/wp-content/uploads/2025/
 10/vital-sinkevich-LAKQ3i-xn84-unsplash.jpg
CATEGORIES:Natur &amp; Bewegung
LOCATION:Botanischer Garten der Universität Ulm\, Hans-Krebs-Weg\, Ulm\, 8
 9081\, Deutschland
X-APPLE-STRUCTURED-LOCATION;VALUE=URI;X-ADDRESS=Hans-Krebs-Weg\, Ulm\, 8908
 1\, Deutschland;X-APPLE-RADIUS=100;X-TITLE=Botanischer Garten der Universi
 tät Ulm:geo:0,0
END:VEVENT
BEGIN:VTIMEZONE
TZID:Europe/Berlin
X-LIC-LOCATION:Europe/Berlin
BEGIN:DAYLIGHT
DTSTART:20260329T030000
TZOFFSETFROM:+0100
TZOFFSETTO:+0200
TZNAME:CEST
END:DAYLIGHT
END:VTIMEZONE
END:VCALENDAR